BEGIN:VCALENDAR
VERSION:2.0
PRODID:-//hacksw/handcal//NONSGML v1.0//EN
CALSCALE:GREGORIAN
BEGIN:VEVENT
LOCATION:71 E Main Street\, Patchogue\, NY 11772
DESCRIPTION:
DTSTART:20260514T000000Z
DTEND:20260514T020000Z
SUMMARY:KISS ALIVE the Tribute
URL;VALUE=URI:https://www.axs.com/events/1290153/kiss-alive-the-tribute-tickets
DTSTAMP:20260420T014955Z
UID:69e5864348c00
END:VEVENT
END:VCALENDAR
