BEGIN:VCALENDAR
VERSION:2.0
PRODID:-//hacksw/handcal//NONSGML v1.0//EN
CALSCALE:GREGORIAN
BEGIN:VEVENT
LOCATION:191 Highland Ave\, Somerville\, MA 02143
DESCRIPTION:
DTSTART:20260627T233000Z
DTEND:20260628T013000Z
SUMMARY:Ásgeir
URL;VALUE=URI:https://www.axs.com/events/1290183/asgeir-tickets
DTSTAMP:20260420T013720Z
UID:69e5835067d89
END:VEVENT
END:VCALENDAR
