BEGIN:VCALENDAR
VERSION:2.0
PRODID:-//hacksw/handcal//NONSGML v1.0//EN
CALSCALE:GREGORIAN
BEGIN:VEVENT
LOCATION:1200 Callowhill Street\, Philadelphia\, PA 19108
DESCRIPTION:
DTSTART:20260522T000000Z
DTEND:20260522T020000Z
SUMMARY:Oranssi Pazuzu
URL;VALUE=URI:https://www.axs.com/events/1317850/oranssi-pazuzu-tickets
DTSTAMP:20260420T070526Z
UID:69e5d03609445
END:VEVENT
END:VCALENDAR
