BEGIN:VCALENDAR
VERSION:2.0
PRODID:-//hacksw/handcal//NONSGML v1.0//EN
CALSCALE:GREGORIAN
BEGIN:VEVENT
LOCATION:524 Main Street\, Stroudsburg\, PA 18360
DESCRIPTION:
DTSTART:20260517T000000Z
DTEND:20260517T020000Z
SUMMARY:Lez Zeppelin
URL;VALUE=URI:https://www.axs.com/events/1364514/lez-zeppelin-tickets
DTSTAMP:20260420T014535Z
UID:69e5853f5dced
END:VEVENT
END:VCALENDAR
