BEGIN:VCALENDAR
VERSION:2.0
PRODID:-//hacksw/handcal//NONSGML v1.0//EN
CALSCALE:GREGORIAN
BEGIN:VEVENT
LOCATION:1260 Avenue of the Americas\, New York City\, NY 10121
DESCRIPTION:
DTSTART:20260829T000000Z
DTEND:20260829T020000Z
SUMMARY:Ella Mai
URL;VALUE=URI:https://www.axs.com/events/1376831/ella-mai-tickets
DTSTAMP:20260420T033742Z
UID:69e59f86633e0
END:VEVENT
END:VCALENDAR
