BEGIN:VCALENDAR
VERSION:2.0
PRODID:-//hacksw/handcal//NONSGML v1.0//EN
CALSCALE:GREGORIAN
BEGIN:VEVENT
LOCATION:610 West 56th Street\, New York\, NY 10019
DESCRIPTION:
DTSTART:20260524T233000Z
DTEND:20260525T013000Z
SUMMARY:Skillibeng
URL;VALUE=URI:https://www.axs.com/events/1404125/skillibeng-tickets
DTSTAMP:20260422T084325Z
UID:69e88a2d33313
END:VEVENT
END:VCALENDAR
