BEGIN:VCALENDAR
VERSION:2.0
PRODID:-//hacksw/handcal//NONSGML v1.0//EN
CALSCALE:GREGORIAN
BEGIN:VEVENT
LOCATION:4355 Lakeshore Drive\, Canandaigua\, NY 14424
DESCRIPTION:
DTSTART:20260809T000000Z
DTEND:20260809T020000Z
SUMMARY:Zach Top
URL;VALUE=URI:https://www.axs.com/events/1405883/zach-top-tickets
DTSTAMP:20260420T014531Z
UID:69e5853ba6554
END:VEVENT
END:VCALENDAR
